BEGIN:VCALENDAR
VERSION:2.0
PRODID:-//Tukios.com/
BEGIN:VEVENT
UID:2d919761-29c9-4b22-b5dd-3e1ef6280752@www.waltersfuneral.com
DTSTAMP:20260424T041858Z
DTSTART:20260523T210000Z
DTEND:20260523T220000Z
SUMMARY:Reception
DESCRIPTION:Light refreshments and fellowship
URL:https://www.waltersfuneral.com/obituaries/adriana-shallcross
LOCATION: 128 S Oak Knoll Ave  Pasadena CA 91101
GEO:34.1436267;-118.1348327
END:VEVENT
END:VCALENDAR