BEGIN:VCALENDAR
VERSION:2.0
PRODID:-//Tukios.com/
BEGIN:VEVENT
UID:503e7f9d-157b-4eda-a40a-c694a36d6b63@www.waltersfuneral.com
DTSTAMP:20260424T042446Z
DTSTART:20260523T200000Z
DTEND:20260523T210000Z
SUMMARY:Memorial Service
DESCRIPTION:
URL:https://www.waltersfuneral.com/obituaries/adriana-shallcross
LOCATION:Immanuel Lutheran Brethren Church 128 S Oak Knoll Ave  Pasadena 
	CA 91101
GEO:34.1436267;-118.1348327
END:VEVENT
END:VCALENDAR